BEGIN:VCALENDAR
VERSION:2.0
PRODID:-//Hounslow Education Partnership - ECPv6.2.9//NONSGML v1.0//EN
CALSCALE:GREGORIAN
METHOD:PUBLISH
X-WR-CALNAME:Hounslow Education Partnership
X-ORIGINAL-URL:https://www.hounsloweducationpartnership.co.uk
X-WR-CALDESC:Events for Hounslow Education Partnership
REFRESH-INTERVAL;VALUE=DURATION:PT1H
X-Robots-Tag:noindex
X-PUBLISHED-TTL:PT1H
BEGIN:VTIMEZONE
TZID:Europe/London
BEGIN:DAYLIGHT
TZOFFSETFROM:+0000
TZOFFSETTO:+0100
TZNAME:BST
DTSTART:20250330T010000
END:DAYLIGHT
BEGIN:STANDARD
TZOFFSETFROM:+0100
TZOFFSETTO:+0000
TZNAME:GMT
DTSTART:20251026T010000
END:STANDARD
END:VTIMEZONE
BEGIN:VEVENT
DTSTART;TZID=Europe/London:20250910T143000
DTEND;TZID=Europe/London:20250910T160000
DTSTAMP:20260420T065420
CREATED:20240715T083534Z
LAST-MODIFIED:20250819T160639Z
UID:19005-1757514600-1757520000@www.hounsloweducationpartnership.co.uk
SUMMARY:DSL File Handover
DESCRIPTION:DSL file handover. We have planned all initial logistics using feedback from DSLs. \n\nWednesday 10th of September\n2.00-4pm\nGrasshoppers\, Syon Lane\, Isleworth\n\nHere's how it will work\n\nHEP has shared a proforma with primaries to complete\, giving the names of children transferring to each specific secondary.\nThe primary DSLs will bring two copies of the completed form to the meeting\, which will be signed by both primary and secondary DSLs\, before handing over any paperwork. Each DSL will keep a copy of the signed proforma.\nThere will also be opportunity to have sensitive conversations regarding specific students.\n\nYour contact: e.pett@hounsloweducationpartnership.co.uk
URL:https://www.hounsloweducationpartnership.co.uk/event/dsl-file-handover/
LOCATION:Grasshoppers Rugby Football Club\, Syon Lane\, Isleworth\, TW7 5PN
CATEGORIES:DSL File Handover,Meetings
ATTACH;FMTTYPE=image/jpeg:https://www.hounsloweducationpartnership.co.uk/wp-content/uploads/2021/01/Kingsley-Academy-School_CJP5057-scaled-wpp1612364504103.jpg
END:VEVENT
BEGIN:VEVENT
DTSTART;TZID=Europe/London:20250916T080000
DTEND;TZID=Europe/London:20250916T093000
DTSTAMP:20260420T065420
CREATED:20240618T084800Z
LAST-MODIFIED:20250820T141225Z
UID:18934-1758009600-1758015000@www.hounsloweducationpartnership.co.uk
SUMMARY:Senior Pastoral Leads Meeting
DESCRIPTION:This group meets termly to network and share best practice.
URL:https://www.hounsloweducationpartnership.co.uk/event/secondary-pastoral-leads-meeting-4/
LOCATION:Kingsley Academy\, TW3 1AX
CATEGORIES:Senior Pastoral Leads
ATTACH;FMTTYPE=image/jpeg:https://www.hounsloweducationpartnership.co.uk/wp-content/uploads/2021/01/Kingsley-Academy-School_CJP5057-scaled-wpp1612364504103.jpg
END:VEVENT
BEGIN:VEVENT
DTSTART;TZID=Europe/London:20250917T130000
DTEND;TZID=Europe/London:20250917T150000
DTSTAMP:20260420T065420
CREATED:20240617T101152Z
LAST-MODIFIED:20250820T142629Z
UID:18841-1758114000-1758121200@www.hounsloweducationpartnership.co.uk
SUMMARY:HEP Board Meeting
DESCRIPTION:The role of the HEP Board is to uphold HEP’s vision and values. It has a strategic oversight of the company\, including financial and performance management. The board maintains an overview of the impact of the company’s activities and reports to members annually.
URL:https://www.hounsloweducationpartnership.co.uk/event/hep-board-meeting-8/
LOCATION:In person – tbc
CATEGORIES:HEP Board
ATTACH;FMTTYPE=image/jpeg:https://www.hounsloweducationpartnership.co.uk/wp-content/uploads/2021/01/Kingsley-Academy-School_CJP5057-scaled-wpp1612364504103.jpg
END:VEVENT
BEGIN:VEVENT
DTSTART;TZID=Europe/London:20250923T090000
DTEND;TZID=Europe/London:20250923T110000
DTSTAMP:20260420T065420
CREATED:20240617T102330Z
LAST-MODIFIED:20250820T141404Z
UID:18860-1758618000-1758625200@www.hounsloweducationpartnership.co.uk
SUMMARY:School Led Improvement Group Primary
DESCRIPTION:The School Led Improvement Group for Primary pupils aims to deliver a strategic and coherent approach to school-led improvement for member schools. \nThe Primary Group (SLIPs) works in partnership with the LA and meets a number of the LA’s school improvement responsibilities through this school-led model. It provides oversight and direction for the Hounslow school improvement strategy and maintains an overview of school performance via Peer Challenge\, including for schools causing concern. \nThere will be five committee meetings held annually\, spread across the three terms. \nThe purpose of the meetings are to: \n\nReview the progress and outcomes of all schools and confirm a borough-wide picture of quality and standards\nReview strengths and vulnerabilities\nSet and review the Hounslow Primary Performance Challenge\nReview action plans for schools causing concern and recommendations for LA interventions\nReview school to school support and joint practice development opportunities\nReview and discuss priorities for the LA and to agree the support to be commissioned or brokered for schools.
URL:https://www.hounsloweducationpartnership.co.uk/event/school-led-improvement-group-primary-18/
LOCATION:Alexandra Primary School\, Denbigh Rd\, Hounslow TW3 4DU\, UK\, Denbigh Road\, United Kingdom
CATEGORIES:School Led Improvement Primary
ATTACH;FMTTYPE=image/jpeg:https://www.hounsloweducationpartnership.co.uk/wp-content/uploads/2021/01/Kingsley-Academy-School_CJP5057-scaled-wpp1612364504103.jpg
GEO:51.475385818892;-0.35977187281458
X-APPLE-STRUCTURED-LOCATION;VALUE=URI;X-ADDRESS=Alexandra Primary School Denbigh Rd Hounslow TW3 4DU UK Denbigh Road United Kingdom;X-APPLE-RADIUS=500;X-TITLE=Denbigh Road:geo:-0.35977187281458,51.475385818892
END:VEVENT
BEGIN:VEVENT
DTSTART;TZID=Europe/London:20250930T080000
DTEND;TZID=Europe/London:20250930T100000
DTSTAMP:20260420T065420
CREATED:20240618T084021Z
LAST-MODIFIED:20250820T141616Z
UID:18922-1759219200-1759226400@www.hounsloweducationpartnership.co.uk
SUMMARY:Senior Leaders of Teaching & Learning (SLTL)
DESCRIPTION:The Secondary Leaders of Teaching and Learning (SLTL) group provides a forum to: \n\nShare best practice and collaborate on common areas of need\nSupport the implementation of the HEP priorities\nMonitor and embed best practice in their school across Subject Networks and Develop your A level Teaching (DAT)\n\nFor further details\, please contact e.pett@hounsloweducationpartnership.co.uk
URL:https://www.hounsloweducationpartnership.co.uk/event/secondary-leaders-of-teaching-learning-sltl-22/
LOCATION:Heston Community School\, TW5 0QR
CATEGORIES:Senior Leaders of Teaching and Learning (SLTL)
ATTACH;FMTTYPE=image/jpeg:https://www.hounsloweducationpartnership.co.uk/wp-content/uploads/2021/01/Kingsley-Academy-School_CJP5057-scaled-wpp1612364504103.jpg
END:VEVENT
END:VCALENDAR