BEGIN:VCALENDAR
VERSION:2.0
PRODID:-//Hounslow Education Partnership - ECPv6.2.9//NONSGML v1.0//EN
CALSCALE:GREGORIAN
METHOD:PUBLISH
X-ORIGINAL-URL:https://www.hounsloweducationpartnership.co.uk
X-WR-CALDESC:Events for Hounslow Education Partnership
REFRESH-INTERVAL;VALUE=DURATION:PT1H
X-Robots-Tag:noindex
X-PUBLISHED-TTL:PT1H
BEGIN:VTIMEZONE
TZID:Europe/London
BEGIN:DAYLIGHT
TZOFFSETFROM:+0000
TZOFFSETTO:+0100
TZNAME:BST
DTSTART:20250330T010000
END:DAYLIGHT
BEGIN:STANDARD
TZOFFSETFROM:+0100
TZOFFSETTO:+0000
TZNAME:GMT
DTSTART:20251026T010000
END:STANDARD
END:VTIMEZONE
BEGIN:VEVENT
DTSTART;TZID=Europe/London:20251001T160000
DTEND;TZID=Europe/London:20251001T173000
DTSTAMP:20260419T183120
CREATED:20240618T090920Z
LAST-MODIFIED:20250820T142248Z
UID:18950-1759334400-1759339800@www.hounsloweducationpartnership.co.uk
SUMMARY:Secondary Subject Networks Leads Meeting
DESCRIPTION:For Secondary Subject Network Leads only\nIntroduction: \nSubject Networks have been established for over a decade to assist the development of subject teaching in secondary schools whilst supporting the CPD of middle leaders. Subject Networks will be overseen by Hounslow Education Partnership\, and led by an expert practitioner from with HEP schools.  \nPurpose: \nTo facilitate the development of high quality subject teaching across HEP Secondary Schools.  \nObjectives: \n\nTo develop professional relationships between colleagues from different schools which facilitates ongoing peer support (i.e. outside the formal meeting structure);\nTo support Subject Leads/Heads of Department/Curriculum Leads (SLs) in keeping up to date with emerging policy and consider with their subject colleagues the implications for strategy and practice;\nTo facilitate sharing and development of good practice related to subject teaching\, learning and assessment;\nTo provide a mechanism for efficient and effective consultation and information flow between SLs and HEP. \n\nFo further details\, please contact e.pett@hounsloweducationpartnership.co.uk
URL:https://www.hounsloweducationpartnership.co.uk/event/secondary-subject-networks-leads-meeting-3/
LOCATION:In person – tbc
CATEGORIES:Secondary Meetings,Secondary Subject Network Leads
ATTACH;FMTTYPE=image/jpeg:https://www.hounsloweducationpartnership.co.uk/wp-content/uploads/2021/01/Kingsley-Academy-School_CJP5057-scaled-wpp1612364504103.jpg
END:VEVENT
BEGIN:VEVENT
DTSTART;TZID=Europe/London:20251009T083000
DTEND;TZID=Europe/London:20251009T103000
DTSTAMP:20260419T183120
CREATED:20240617T100916Z
LAST-MODIFIED:20250819T160151Z
UID:18839-1759998600-1760005800@www.hounsloweducationpartnership.co.uk
SUMMARY:HEP AGM
DESCRIPTION:Each year\, the directors call a general meeting for members to present a report and review of the activities of the company over the preceding 12 months. The annual meeting is also where any other company business\, which requires the approval of members\, is conducted and where directors are formally approved in their roles.
URL:https://www.hounsloweducationpartnership.co.uk/event/hep-agm-3/
LOCATION:The Lensbury\, Broom Rd\, Teddington TW11 9NU\, UK\, Broom Road\, United Kingdom
CATEGORIES:HEP AGM
ATTACH;FMTTYPE=image/jpeg:https://www.hounsloweducationpartnership.co.uk/wp-content/uploads/2021/01/Kingsley-Academy-School_CJP5057-scaled-wpp1612364504103.jpg
GEO:51.426526060891;-0.31783196734914
X-APPLE-STRUCTURED-LOCATION;VALUE=URI;X-ADDRESS=The Lensbury Broom Rd Teddington TW11 9NU UK Broom Road United Kingdom;X-APPLE-RADIUS=500;X-TITLE=Broom Road:geo:-0.31783196734914,51.426526060891
END:VEVENT
BEGIN:VEVENT
DTSTART;TZID=Europe/London:20251009T083000
DTEND;TZID=Europe/London:20251009T113000
DTSTAMP:20260419T183120
CREATED:20240617T125304Z
LAST-MODIFIED:20250820T140853Z
UID:18903-1759998600-1760009400@www.hounsloweducationpartnership.co.uk
SUMMARY:Secondary Partnership Meeting – after HEP AGM
DESCRIPTION:Partnership meetings and the associated working groups\, led by headteachers are the driving force of HEP’s work and set the strategic direction of HEP activity.
URL:https://www.hounsloweducationpartnership.co.uk/event/secondary-partnership-meeting-after-hep-agm-2/
LOCATION:The Lensbury\, Broom Rd\, Teddington TW11 9NU\, UK\, Broom Road\, United Kingdom
CATEGORIES:Secondary Partnership Meeting Lensbury
ATTACH;FMTTYPE=image/jpeg:https://www.hounsloweducationpartnership.co.uk/wp-content/uploads/2021/01/Kingsley-Academy-School_CJP5057-scaled-wpp1612364504103.jpg
GEO:51.426526060891;-0.31783196734914
X-APPLE-STRUCTURED-LOCATION;VALUE=URI;X-ADDRESS=The Lensbury Broom Rd Teddington TW11 9NU UK Broom Road United Kingdom;X-APPLE-RADIUS=500;X-TITLE=Broom Road:geo:-0.31783196734914,51.426526060891
END:VEVENT
BEGIN:VEVENT
DTSTART;TZID=Europe/London:20251009T090000
DTEND;TZID=Europe/London:20251009T113000
DTSTAMP:20260419T183120
CREATED:20240617T104504Z
LAST-MODIFIED:20250820T140421Z
UID:18875-1760000400-1760009400@www.hounsloweducationpartnership.co.uk
SUMMARY:Primary Partnership Meeting
DESCRIPTION:Partnership meetings and the associated working groups\, led by headteachers are the driving force of HEP’s work and set the strategic direction of HEP activity. \nThis meeting will take place following the HEP AGM.
URL:https://www.hounsloweducationpartnership.co.uk/event/primary-partnership-meeting-30/
LOCATION:The Lensbury\, Broom Rd\, Teddington TW11 9NU\, UK\, Broom Road\, United Kingdom
CATEGORIES:Primary Partnership
ATTACH;FMTTYPE=image/jpeg:https://www.hounsloweducationpartnership.co.uk/wp-content/uploads/2021/01/Kingsley-Academy-School_CJP5057-scaled-wpp1612364504103.jpg
GEO:51.426526060891;-0.31783196734914
X-APPLE-STRUCTURED-LOCATION;VALUE=URI;X-ADDRESS=The Lensbury Broom Rd Teddington TW11 9NU UK Broom Road United Kingdom;X-APPLE-RADIUS=500;X-TITLE=Broom Road:geo:-0.31783196734914,51.426526060891
END:VEVENT
BEGIN:VEVENT
DTSTART;TZID=Europe/London:20251023T080000
DTEND;TZID=Europe/London:20251023T100000
DTSTAMP:20260419T183120
CREATED:20240617T105912Z
LAST-MODIFIED:20250820T140155Z
UID:18880-1761206400-1761213600@www.hounsloweducationpartnership.co.uk
SUMMARY:Primary Partnership & LA Liaison
DESCRIPTION:Partnership and LA Liaison meetings are facilitated by HEP to ensure effective partnership working regarding shared responsibilities. These are attended by senior LA officers and officers of the Primary Partnership\, alongside the HEP Director.
URL:https://www.hounsloweducationpartnership.co.uk/event/primary-partnership-la-liaison-25/
LOCATION:tbc
CATEGORIES:Primary and LA Liaison
ATTACH;FMTTYPE=image/jpeg:https://www.hounsloweducationpartnership.co.uk/wp-content/uploads/2021/01/Kingsley-Academy-School_CJP5057-scaled-wpp1612364504103.jpg
END:VEVENT
END:VCALENDAR