BEGIN:VCALENDAR
VERSION:2.0
PRODID:-//Hounslow Education Partnership - ECPv6.2.9//NONSGML v1.0//EN
CALSCALE:GREGORIAN
METHOD:PUBLISH
X-WR-CALNAME:Hounslow Education Partnership
X-ORIGINAL-URL:https://www.hounsloweducationpartnership.co.uk
X-WR-CALDESC:Events for Hounslow Education Partnership
REFRESH-INTERVAL;VALUE=DURATION:PT1H
X-Robots-Tag:noindex
X-PUBLISHED-TTL:PT1H
BEGIN:VTIMEZONE
TZID:Europe/London
BEGIN:DAYLIGHT
TZOFFSETFROM:+0000
TZOFFSETTO:+0100
TZNAME:BST
DTSTART:20230326T010000
END:DAYLIGHT
BEGIN:STANDARD
TZOFFSETFROM:+0100
TZOFFSETTO:+0000
TZNAME:GMT
DTSTART:20231029T010000
END:STANDARD
END:VTIMEZONE
BEGIN:VEVENT
DTSTART;TZID=Europe/London:20230505T080000
DTEND;TZID=Europe/London:20230505T103000
DTSTAMP:20260420T144422
CREATED:20220510T110328Z
LAST-MODIFIED:20220510T110328Z
UID:11699-1683273600-1683282600@www.hounsloweducationpartnership.co.uk
SUMMARY:Secondary Partnership Meeting
DESCRIPTION:Partnership meetings and the associated working groups\, led by headteachers are the driving force of HEP’s work and set the strategic direction of HEP activity.
URL:https://www.hounsloweducationpartnership.co.uk/event/secondary-partnership-meeting-22/
LOCATION:Grasshoppers Rugby Football Club\, Syon Lane\, Isleworth\, TW7 5PN
CATEGORIES:Secondary Partnership Meeting
ATTACH;FMTTYPE=image/jpeg:https://www.hounsloweducationpartnership.co.uk/wp-content/uploads/2021/01/Kingsley-Academy-School_CJP5057-scaled-wpp1612364504103.jpg
END:VEVENT
BEGIN:VEVENT
DTSTART;TZID=Europe/London:20230509T080000
DTEND;TZID=Europe/London:20230509T100000
DTSTAMP:20260420T144422
CREATED:20220510T114658Z
LAST-MODIFIED:20220621T140918Z
UID:11720-1683619200-1683626400@www.hounsloweducationpartnership.co.uk
SUMMARY:Secondary Leaders of Teaching & Learning (SLTL)
DESCRIPTION:The Secondary Leaders of Teaching and Learning (SLTL) group provides a forum to: \n\nShare best practice and collaborate on common areas of need\nSupport the implementation of the HEP/LA 14-19 priorities\nMonitor and embed best practice in their school across Subject Networks\, Peer Review and Develop your A level Teaching (DAT)
URL:https://www.hounsloweducationpartnership.co.uk/event/secondary-leaders-of-teaching-learning-sltl-13/
LOCATION:Online/in person – tbc
CATEGORIES:Senior Leaders of Teaching and Learning (SLTL)
ATTACH;FMTTYPE=image/jpeg:https://www.hounsloweducationpartnership.co.uk/wp-content/uploads/2021/01/Kingsley-Academy-School_CJP5057-scaled-wpp1612364504103.jpg
END:VEVENT
BEGIN:VEVENT
DTSTART;TZID=Europe/London:20230512T140000
DTEND;TZID=Europe/London:20230512T153000
DTSTAMP:20260420T144422
CREATED:20220510T132314Z
LAST-MODIFIED:20220510T132314Z
UID:11771-1683900000-1683905400@www.hounsloweducationpartnership.co.uk
SUMMARY:Vulnerable Schools SEND Group
DESCRIPTION:The Vulnerable Students and SEND Group (VSSG) is set up to deliver a more strategic and coherent approach to supporting vulnerable students\, and to ensure ongoing improvement in SEND working between the LA and Hounslow Schools. \nThe group's key focus will be to have strategic oversight to identify key risk factors that impact the children and young people of Hounslow\, supported by a series of working groups to achieve the best outcomes for member schools relating to the following themes:  \n\nCrime relating to schools\nTransition\nFair Access/managed moves/exclusions/alternative provision\nBuilding stronger partnership and ways of working with the LA SEND teams\nImproved outcomes for Special Schools working as HEP members\nBuilding the school-to-school offer\nRaising awareness of the local offer\nSEND action plan and recovery\n\nThere will be three meetings held annually\, spread across the three terms. Working groups across Primary\, Secondary and SEND will be formed to drive forward particular streams of development work. \nThe purpose of the meetings: \n\nSetting the groups strategic priorities for social vulnerability and SEND\nAgreeing specific target outcomes\nDirecting the focus of the specific working groups\nConsider feedback from member schools on their needs in order to investigate further potential service developments
URL:https://www.hounsloweducationpartnership.co.uk/event/vulnerable-schools-send-group-16/
LOCATION:Online
CATEGORIES:Primary Meetings,Secondary Meetings,Vulnerable Students and SEND Group
ATTACH;FMTTYPE=image/jpeg:https://www.hounsloweducationpartnership.co.uk/wp-content/uploads/2021/01/Kingsley-Academy-School_CJP5057-scaled-wpp1612364504103.jpg
END:VEVENT
BEGIN:VEVENT
DTSTART;TZID=Europe/London:20230517T140000
DTEND;TZID=Europe/London:20230517T150000
DTSTAMP:20260420T144422
CREATED:20220906T070157Z
LAST-MODIFIED:20220906T083210Z
UID:6515-1684332000-1684335600@www.hounsloweducationpartnership.co.uk
SUMMARY:LA Secondary Place Planning
DESCRIPTION:These termly meetings aim to provide Headteachers with updates from the LA’s School Organisation team.  Pupil projections and related data are presented to inform discussions about strategic planning of school places and associated challenges around place planning and admissions.  Input from schools enables a shared understanding and influences LA actions.
URL:https://www.hounsloweducationpartnership.co.uk/event/la-secondary-place-planning-2/
LOCATION:Online
CATEGORIES:Secondary Place Planning
ATTACH;FMTTYPE=image/jpeg:https://www.hounsloweducationpartnership.co.uk/wp-content/uploads/2021/01/Kingsley-Academy-School_CJP5057-scaled-wpp1612364504103.jpg
END:VEVENT
BEGIN:VEVENT
DTSTART;TZID=Europe/London:20230518T080000
DTEND;TZID=Europe/London:20230518T100000
DTSTAMP:20260420T144422
CREATED:20220510T115257Z
LAST-MODIFIED:20220510T115257Z
UID:11732-1684396800-1684404000@www.hounsloweducationpartnership.co.uk
SUMMARY:Secondary Partnership & LA Liaison
DESCRIPTION:Partnership and LA Liaison meetings are facilitated by HEP to ensure effective partnership working regarding shared responsibilities. These are attended by senior LA officers and officers of the Secondary Partnership\, alongside the HEP Director.
URL:https://www.hounsloweducationpartnership.co.uk/event/secondary-partnership-la-liaison-17/
LOCATION:Online
CATEGORIES:Secondary Partnership and LA Liaison Meetings
ATTACH;FMTTYPE=image/jpeg:https://www.hounsloweducationpartnership.co.uk/wp-content/uploads/2021/01/Kingsley-Academy-School_CJP5057-scaled-wpp1612364504103.jpg
END:VEVENT
END:VCALENDAR