BEGIN:VCALENDAR
VERSION:2.0
PRODID:-//Hounslow Education Partnership - ECPv6.2.9//NONSGML v1.0//EN
CALSCALE:GREGORIAN
METHOD:PUBLISH
X-ORIGINAL-URL:https://www.hounsloweducationpartnership.co.uk
X-WR-CALDESC:Events for Hounslow Education Partnership
REFRESH-INTERVAL;VALUE=DURATION:PT1H
X-Robots-Tag:noindex
X-PUBLISHED-TTL:PT1H
BEGIN:VTIMEZONE
TZID:Europe/London
BEGIN:DAYLIGHT
TZOFFSETFROM:+0000
TZOFFSETTO:+0100
TZNAME:BST
DTSTART:20230326T010000
END:DAYLIGHT
BEGIN:STANDARD
TZOFFSETFROM:+0100
TZOFFSETTO:+0000
TZNAME:GMT
DTSTART:20231029T010000
END:STANDARD
END:VTIMEZONE
BEGIN:VEVENT
DTSTART;TZID=Europe/London:20231107T080000
DTEND;TZID=Europe/London:20231107T100000
DTSTAMP:20260419T150752
CREATED:20230523T100812Z
LAST-MODIFIED:20230523T100812Z
UID:16062-1699344000-1699351200@www.hounsloweducationpartnership.co.uk
SUMMARY:Secondary Leaders of Teaching & Learning (SLTL)
DESCRIPTION:The Secondary Leaders of Teaching and Learning (SLTL) group provides a forum to: \n\nShare best practice and collaborate on common areas of need\nSupport the implementation of the HEP priorities\nMonitor and embed best practice in their school across Subject Networks and Develop your A level Teaching (DAT)\n\nFor further details\, please contact e.pett@hounsloweducationpartnership.co.uk
URL:https://www.hounsloweducationpartnership.co.uk/event/secondary-leaders-of-teaching-learning-sltl-16/
LOCATION:Online/in person – tbc
CATEGORIES:Senior Leaders of Teaching and Learning (SLTL)
ATTACH;FMTTYPE=image/jpeg:https://www.hounsloweducationpartnership.co.uk/wp-content/uploads/2021/01/Kingsley-Academy-School_CJP5057-scaled-wpp1612364504103.jpg
END:VEVENT
BEGIN:VEVENT
DTSTART;TZID=Europe/London:20231116T080000
DTEND;TZID=Europe/London:20231116T103000
DTSTAMP:20260419T150752
CREATED:20230509T151227Z
LAST-MODIFIED:20230509T151227Z
UID:15720-1700121600-1700130600@www.hounsloweducationpartnership.co.uk
SUMMARY:Secondary Partnership Meeting
DESCRIPTION:Partnership meetings and the associated working groups\, led by headteachers are the driving force of HEP’s work and set the strategic direction of HEP activity.
URL:https://www.hounsloweducationpartnership.co.uk/event/secondary-partnership-meeting-23/
LOCATION:Grasshoppers Rugby Football Club\, Syon Lane\, Isleworth\, TW7 5PN
CATEGORIES:Secondary Partnership Meeting
ATTACH;FMTTYPE=image/jpeg:https://www.hounsloweducationpartnership.co.uk/wp-content/uploads/2021/01/Kingsley-Academy-School_CJP5057-scaled-wpp1612364504103.jpg
END:VEVENT
BEGIN:VEVENT
DTSTART;TZID=Europe/London:20231130T080000
DTEND;TZID=Europe/London:20231130T100000
DTSTAMP:20260419T150752
CREATED:20230509T152138Z
LAST-MODIFIED:20230524T083848Z
UID:15730-1701331200-1701338400@www.hounsloweducationpartnership.co.uk
SUMMARY:Secondary Partnership & LA Liaison
DESCRIPTION:Partnership and LA Liaison meetings are facilitated by HEP to ensure effective partnership working regarding shared responsibilities. These are attended by senior LA officers\, Chair and C0-chair of the Secondary Partnership\, alongside the HEP Director.
URL:https://www.hounsloweducationpartnership.co.uk/event/secondary-partnership-la-liaison-19/
LOCATION:Online
CATEGORIES:Secondary Partnership and LA Liaison Meetings
ATTACH;FMTTYPE=image/jpeg:https://www.hounsloweducationpartnership.co.uk/wp-content/uploads/2021/01/Kingsley-Academy-School_CJP5057-scaled-wpp1612364504103.jpg
END:VEVENT
END:VCALENDAR