BEGIN:VCALENDAR
VERSION:2.0
PRODID:-//Hounslow Education Partnership - ECPv6.2.9//NONSGML v1.0//EN
CALSCALE:GREGORIAN
METHOD:PUBLISH
X-WR-CALNAME:Hounslow Education Partnership
X-ORIGINAL-URL:https://www.hounsloweducationpartnership.co.uk
X-WR-CALDESC:Events for Hounslow Education Partnership
REFRESH-INTERVAL;VALUE=DURATION:PT1H
X-Robots-Tag:noindex
X-PUBLISHED-TTL:PT1H
BEGIN:VTIMEZONE
TZID:Europe/London
BEGIN:DAYLIGHT
TZOFFSETFROM:+0000
TZOFFSETTO:+0100
TZNAME:BST
DTSTART:20230326T010000
END:DAYLIGHT
BEGIN:STANDARD
TZOFFSETFROM:+0100
TZOFFSETTO:+0000
TZNAME:GMT
DTSTART:20231029T010000
END:STANDARD
END:VTIMEZONE
BEGIN:VEVENT
DTSTART;TZID=Europe/London:20230517T140000
DTEND;TZID=Europe/London:20230517T150000
DTSTAMP:20260420T161630
CREATED:20220906T070157Z
LAST-MODIFIED:20220906T083210Z
UID:6515-1684332000-1684335600@www.hounsloweducationpartnership.co.uk
SUMMARY:LA Secondary Place Planning
DESCRIPTION:These termly meetings aim to provide Headteachers with updates from the LA’s School Organisation team.  Pupil projections and related data are presented to inform discussions about strategic planning of school places and associated challenges around place planning and admissions.  Input from schools enables a shared understanding and influences LA actions.
URL:https://www.hounsloweducationpartnership.co.uk/event/la-secondary-place-planning-2/
LOCATION:Online
CATEGORIES:Secondary Place Planning
ATTACH;FMTTYPE=image/jpeg:https://www.hounsloweducationpartnership.co.uk/wp-content/uploads/2021/01/Kingsley-Academy-School_CJP5057-scaled-wpp1612364504103.jpg
END:VEVENT
END:VCALENDAR