BEGIN:VCALENDAR
VERSION:2.0
PRODID:-//Hounslow Education Partnership - ECPv6.2.9//NONSGML v1.0//EN
CALSCALE:GREGORIAN
METHOD:PUBLISH
X-WR-CALNAME:Hounslow Education Partnership
X-ORIGINAL-URL:https://www.hounsloweducationpartnership.co.uk
X-WR-CALDESC:Events for Hounslow Education Partnership
REFRESH-INTERVAL;VALUE=DURATION:PT1H
X-Robots-Tag:noindex
X-PUBLISHED-TTL:PT1H
BEGIN:VTIMEZONE
TZID:Europe/London
BEGIN:DAYLIGHT
TZOFFSETFROM:+0000
TZOFFSETTO:+0100
TZNAME:BST
DTSTART:20230326T010000
END:DAYLIGHT
BEGIN:STANDARD
TZOFFSETFROM:+0100
TZOFFSETTO:+0000
TZNAME:GMT
DTSTART:20231029T010000
END:STANDARD
END:VTIMEZONE
BEGIN:VEVENT
DTSTART;TZID=Europe/London:20230518T080000
DTEND;TZID=Europe/London:20230518T100000
DTSTAMP:20260420T161614
CREATED:20220510T115257Z
LAST-MODIFIED:20220510T115257Z
UID:11732-1684396800-1684404000@www.hounsloweducationpartnership.co.uk
SUMMARY:Secondary Partnership & LA Liaison
DESCRIPTION:Partnership and LA Liaison meetings are facilitated by HEP to ensure effective partnership working regarding shared responsibilities. These are attended by senior LA officers and officers of the Secondary Partnership\, alongside the HEP Director.
URL:https://www.hounsloweducationpartnership.co.uk/event/secondary-partnership-la-liaison-17/
LOCATION:Online
CATEGORIES:Secondary Partnership and LA Liaison Meetings
ATTACH;FMTTYPE=image/jpeg:https://www.hounsloweducationpartnership.co.uk/wp-content/uploads/2021/01/Kingsley-Academy-School_CJP5057-scaled-wpp1612364504103.jpg
END:VEVENT
END:VCALENDAR