BEGIN:VCALENDAR
VERSION:2.0
PRODID:-//Hounslow Education Partnership - ECPv6.2.9//NONSGML v1.0//EN
CALSCALE:GREGORIAN
METHOD:PUBLISH
X-WR-CALNAME:Hounslow Education Partnership
X-ORIGINAL-URL:https://www.hounsloweducationpartnership.co.uk
X-WR-CALDESC:Events for Hounslow Education Partnership
REFRESH-INTERVAL;VALUE=DURATION:PT1H
X-Robots-Tag:noindex
X-PUBLISHED-TTL:PT1H
BEGIN:VTIMEZONE
TZID:Europe/London
BEGIN:DAYLIGHT
TZOFFSETFROM:+0000
TZOFFSETTO:+0100
TZNAME:BST
DTSTART:20240331T010000
END:DAYLIGHT
BEGIN:STANDARD
TZOFFSETFROM:+0100
TZOFFSETTO:+0000
TZNAME:GMT
DTSTART:20241027T010000
END:STANDARD
BEGIN:DAYLIGHT
TZOFFSETFROM:+0000
TZOFFSETTO:+0100
TZNAME:BST
DTSTART:20250330T010000
END:DAYLIGHT
BEGIN:STANDARD
TZOFFSETFROM:+0100
TZOFFSETTO:+0000
TZNAME:GMT
DTSTART:20251026T010000
END:STANDARD
BEGIN:DAYLIGHT
TZOFFSETFROM:+0000
TZOFFSETTO:+0100
TZNAME:BST
DTSTART:20260329T010000
END:DAYLIGHT
BEGIN:STANDARD
TZOFFSETFROM:+0100
TZOFFSETTO:+0000
TZNAME:GMT
DTSTART:20261025T010000
END:STANDARD
END:VTIMEZONE
BEGIN:VEVENT
DTSTART;TZID=Europe/London:20260204T130000
DTEND;TZID=Europe/London:20260204T150000
DTSTAMP:20260419T194918
CREATED:20240617T101343Z
LAST-MODIFIED:20250820T110200Z
UID:18845-1770210000-1770217200@www.hounsloweducationpartnership.co.uk
SUMMARY:HEP Board Meeting
DESCRIPTION:The role of the HEP Board is to uphold HEP’s vision and values. It has a strategic oversight of the company\, including financial and performance management. The board maintains an overview of the impact of the company’s activities and reports to members annually.
URL:https://www.hounsloweducationpartnership.co.uk/event/hep-board-meeting-10/
LOCATION:In person – tbc
CATEGORIES:HEP Board
ATTACH;FMTTYPE=image/jpeg:https://www.hounsloweducationpartnership.co.uk/wp-content/uploads/2021/01/Kingsley-Academy-School_CJP5057-scaled-wpp1612364504103.jpg
END:VEVENT
BEGIN:VEVENT
DTSTART;TZID=Europe/London:20251203T130000
DTEND;TZID=Europe/London:20251203T160000
DTSTAMP:20260419T194918
CREATED:20240617T101253Z
LAST-MODIFIED:20250820T120343Z
UID:18843-1764766800-1764777600@www.hounsloweducationpartnership.co.uk
SUMMARY:HEP Board Meeting
DESCRIPTION:The role of the HEP Board is to uphold HEP’s vision and values. It has a strategic oversight of the company\, including financial and performance management. The board maintains an overview of the impact of the company’s activities and reports to members annually.
URL:https://www.hounsloweducationpartnership.co.uk/event/hep-board-meeting-9/
LOCATION:In person – tbc
CATEGORIES:HEP Board
ATTACH;FMTTYPE=image/jpeg:https://www.hounsloweducationpartnership.co.uk/wp-content/uploads/2021/01/Kingsley-Academy-School_CJP5057-scaled-wpp1612364504103.jpg
END:VEVENT
BEGIN:VEVENT
DTSTART;TZID=Europe/London:20251111T163000
DTEND;TZID=Europe/London:20251111T180000
DTSTAMP:20260419T194918
CREATED:20240618T091059Z
LAST-MODIFIED:20250820T131900Z
UID:18952-1762878600-1762884000@www.hounsloweducationpartnership.co.uk
SUMMARY:Secondary Subject Networks
DESCRIPTION:Introduction: \nSubject Networks have been established for over a decade to assist the development of subject teaching in secondary schools whilst supporting the CPD of middle leaders. Subject Networks is overseen by Hounslow Education Partnership\, and led by an expert practitioner from within HEP schools.  \nPurpose: \nTo facilitate the development of high quality subject teaching across HEP Secondary Schools.  \nObjectives: \n\nTo develop professional relationships between colleagues from different schools which facilitates ongoing peer support (i.e. outside the formal meeting structure);\nTo support Subject Leads/Heads of Department/Curriculum Leads (SLs) in keeping up to date with emerging policy and consider with their subject colleagues the implications for strategy and practice;\nTo facilitate sharing and development of good practice related to subject teaching\, learning and assessment;\nTo provide a mechanism for efficient and effective consultation and information flow between SLs and HEP. \n\nFo further details\, please contact e.pett@hounsloweducationpartnership.co.uk
URL:https://www.hounsloweducationpartnership.co.uk/event/secondary-subject-networks-20/
LOCATION:In person – tbc
CATEGORIES:Secondary Subject Networks
ATTACH;FMTTYPE=image/jpeg:https://www.hounsloweducationpartnership.co.uk/wp-content/uploads/2021/01/Kingsley-Academy-School_CJP5057-scaled-wpp1612364504103.jpg
END:VEVENT
BEGIN:VEVENT
DTSTART;TZID=Europe/London:20251008T163000
DTEND;TZID=Europe/London:20251008T180000
DTSTAMP:20260419T194918
CREATED:20240618T090439Z
LAST-MODIFIED:20250820T131252Z
UID:18944-1759941000-1759946400@www.hounsloweducationpartnership.co.uk
SUMMARY:Develop Your A Level Teaching
DESCRIPTION:Develop your A level teaching is a forum for Hounslow teachers and leaders with a passion and responsibility for excellent provision at post-16 to share their expertise and champion best practice in their subject. This programme is driven by a shared acknowledgement of historic underachievement at post-16 across the borough\, despite impressive performance at KS4. \nThis is a HEP-wide programme of high quality training that is based on current and relevant educational theory and research\, supporting the in-school CPD offer. \nHEP schools\, with or without a sixth form\, can opt into this collaborative programme\, nominating teachers with any level of experience to attend. \n\nThree meetings are held throughout the year\, each consisting of a keynote followed by subject breakout groups\nKeynote presenters and subject group facilitators are expert practitioners suggested by SLTL from within HEP schools\nBreakout groups where colleagues discuss the implications specific to their students\nThe themes and content for each year are decided by the working group of HEP Deputy Heads from SLTL\nSubjects offered: Maths\, English\, Biology\, Chemistry\, Physics\, Geography\, History\, Economics\, French\, Spanish\, Politics\n\nFor further details\, please contact e.pett@hounsloweducationpartnership.co.uk
URL:https://www.hounsloweducationpartnership.co.uk/event/develop-your-a-level-teaching-13/
LOCATION:In person – tbc
CATEGORIES:Develop your A level teaching
ATTACH;FMTTYPE=image/jpeg:https://www.hounsloweducationpartnership.co.uk/wp-content/uploads/2021/01/Kingsley-Academy-School_CJP5057-scaled-wpp1612364504103.jpg
END:VEVENT
BEGIN:VEVENT
DTSTART;TZID=Europe/London:20251001T160000
DTEND;TZID=Europe/London:20251001T173000
DTSTAMP:20260419T194918
CREATED:20240618T090920Z
LAST-MODIFIED:20250820T142248Z
UID:18950-1759334400-1759339800@www.hounsloweducationpartnership.co.uk
SUMMARY:Secondary Subject Networks Leads Meeting
DESCRIPTION:For Secondary Subject Network Leads only\nIntroduction: \nSubject Networks have been established for over a decade to assist the development of subject teaching in secondary schools whilst supporting the CPD of middle leaders. Subject Networks will be overseen by Hounslow Education Partnership\, and led by an expert practitioner from with HEP schools.  \nPurpose: \nTo facilitate the development of high quality subject teaching across HEP Secondary Schools.  \nObjectives: \n\nTo develop professional relationships between colleagues from different schools which facilitates ongoing peer support (i.e. outside the formal meeting structure);\nTo support Subject Leads/Heads of Department/Curriculum Leads (SLs) in keeping up to date with emerging policy and consider with their subject colleagues the implications for strategy and practice;\nTo facilitate sharing and development of good practice related to subject teaching\, learning and assessment;\nTo provide a mechanism for efficient and effective consultation and information flow between SLs and HEP. \n\nFo further details\, please contact e.pett@hounsloweducationpartnership.co.uk
URL:https://www.hounsloweducationpartnership.co.uk/event/secondary-subject-networks-leads-meeting-3/
LOCATION:In person – tbc
CATEGORIES:Secondary Meetings,Secondary Subject Network Leads
ATTACH;FMTTYPE=image/jpeg:https://www.hounsloweducationpartnership.co.uk/wp-content/uploads/2021/01/Kingsley-Academy-School_CJP5057-scaled-wpp1612364504103.jpg
END:VEVENT
BEGIN:VEVENT
DTSTART;TZID=Europe/London:20250917T130000
DTEND;TZID=Europe/London:20250917T150000
DTSTAMP:20260419T194918
CREATED:20240617T101152Z
LAST-MODIFIED:20250820T142629Z
UID:18841-1758114000-1758121200@www.hounsloweducationpartnership.co.uk
SUMMARY:HEP Board Meeting
DESCRIPTION:The role of the HEP Board is to uphold HEP’s vision and values. It has a strategic oversight of the company\, including financial and performance management. The board maintains an overview of the impact of the company’s activities and reports to members annually.
URL:https://www.hounsloweducationpartnership.co.uk/event/hep-board-meeting-8/
LOCATION:In person – tbc
CATEGORIES:HEP Board
ATTACH;FMTTYPE=image/jpeg:https://www.hounsloweducationpartnership.co.uk/wp-content/uploads/2021/01/Kingsley-Academy-School_CJP5057-scaled-wpp1612364504103.jpg
END:VEVENT
BEGIN:VEVENT
DTSTART;TZID=Europe/London:20240619T160000
DTEND;TZID=Europe/London:20240621T170000
DTSTAMP:20260419T194918
CREATED:20230523T162335Z
LAST-MODIFIED:20230523T162335Z
UID:16098-1718812800-1718989200@www.hounsloweducationpartnership.co.uk
SUMMARY:Secondary Headteachers Conference
DESCRIPTION:Facilitated by HEP\, secondary Headteachers meet annually to share practice and focus on the development of new workstreams to support school-led improvement.
URL:https://www.hounsloweducationpartnership.co.uk/event/secondary-headteachers-conference-4/
LOCATION:In person – tbc
CATEGORIES:Secondary Headteachers Conference
ATTACH;FMTTYPE=image/jpeg:https://www.hounsloweducationpartnership.co.uk/wp-content/uploads/2021/01/Kingsley-Academy-School_CJP5057-scaled-wpp1612364504103.jpg
END:VEVENT
END:VCALENDAR