BEGIN:VCALENDAR
VERSION:2.0
PRODID:-//Hounslow Education Partnership - ECPv6.2.9//NONSGML v1.0//EN
CALSCALE:GREGORIAN
METHOD:PUBLISH
X-ORIGINAL-URL:https://www.hounsloweducationpartnership.co.uk
X-WR-CALDESC:Events for Hounslow Education Partnership
REFRESH-INTERVAL;VALUE=DURATION:PT1H
X-Robots-Tag:noindex
X-PUBLISHED-TTL:PT1H
BEGIN:VTIMEZONE
TZID:Europe/London
BEGIN:DAYLIGHT
TZOFFSETFROM:+0000
TZOFFSETTO:+0100
TZNAME:BST
DTSTART:20250330T010000
END:DAYLIGHT
BEGIN:STANDARD
TZOFFSETFROM:+0100
TZOFFSETTO:+0000
TZNAME:GMT
DTSTART:20251026T010000
END:STANDARD
END:VTIMEZONE
BEGIN:VEVENT
DTSTART;TZID=Europe/London:20250325T142500
DTEND;TZID=Europe/London:20250325T151500
DTSTAMP:20260419T172445
CREATED:20241211T092759Z
LAST-MODIFIED:20250305T113235Z
UID:20593-1742912700-1742915700@www.hounsloweducationpartnership.co.uk
SUMMARY:Reading for Pleasure with Deaf Children
DESCRIPTION:CPD led by Reading for Pleasure Ambassadors\nAimed at\nTeachers wanting to see how to develop a love of reading with hearing impaired children \nOrganisers\nDinusha Tulleth\, Centre for the Deaf lead \nCome and see ...\n... how we teach deaf children to read and love books – come and see a live session. We will show you how we use books around a theme using communication in print/BSL and how we involve parents. \nWhere\nNorwood Green I&N School\nThorncliffe Road\nUB2 5RN \nParking\n\nParking is free on the streets outside school\nH32 and 482 buses stop nearby\n\nWhen\nTuesday 25th March  \n2:25-3:15pm \nWho\n3 delegates \nPlaces will be allocated on a first-come-first-serve basis. \nContact\nNikola Standing
URL:https://www.hounsloweducationpartnership.co.uk/event/reading-for-pleasure-with-deaf-children/
LOCATION:Norwood Green I&N School Thorncliffe Road UB2 5RN
CATEGORIES:Get Hounslow Reading
ATTACH;FMTTYPE=image/jpeg:https://www.hounsloweducationpartnership.co.uk/wp-content/uploads/2021/04/HEP_GHR_LOGO.jpeg
END:VEVENT
BEGIN:VEVENT
DTSTART;TZID=Europe/London:20250307T090000
DTEND;TZID=Europe/London:20250307T103000
DTSTAMP:20260419T172445
CREATED:20241016T100058Z
LAST-MODIFIED:20250225T104329Z
UID:19946-1741338000-1741343400@www.hounsloweducationpartnership.co.uk
SUMMARY:Reading for Pleasure Themed Week
DESCRIPTION:CPD led by Reading for Pleasure Ambassadors\nAimed at\nTeachers wanting to create a Reading for Pleasure Book Buzz in their school \nOrganisers\nTracy Riddell\, 2023/24 winner of GHR's RfP Ambassador of the Year award \nCome and see ...\n... how we use themed weeks to develop a love of books and create a buzz and excitement around Reading for Pleasure. \nWhere\nNorwood Green I&N School\nThorncliffe Road\nUB2 5RN \nParking\n\nParking is free on the streets outside school\nH32 and 482 buses stop nearby\n\nWhen\nFriday 7th March \n9-10:30am \nWho\nUp to 10 delegates \nContact\nNikola Standing
URL:https://www.hounsloweducationpartnership.co.uk/event/reading-for-pleasure-themed-week/
LOCATION:Norwood Green I&N School Thorncliffe Road UB2 5RN
CATEGORIES:Get Hounslow Reading
ATTACH;FMTTYPE=image/jpeg:https://www.hounsloweducationpartnership.co.uk/wp-content/uploads/2021/04/HEP_GHR_LOGO.jpeg
END:VEVENT
END:VCALENDAR